BEGIN:VCALENDAR
VERSION:2.0
PRODID:-//Communication &amp; Politics Group - ECPv6.15.20//NONSGML v1.0//EN
CALSCALE:GREGORIAN
METHOD:PUBLISH
X-WR-CALNAME:Communication &amp; Politics Group
X-ORIGINAL-URL:https://cpg.comm.ucla.edu
X-WR-CALDESC:Events for Communication &amp; Politics Group
REFRESH-INTERVAL;VALUE=DURATION:PT1H
X-Robots-Tag:noindex
X-PUBLISHED-TTL:PT1H
BEGIN:VTIMEZONE
TZID:America/Los_Angeles
BEGIN:DAYLIGHT
TZOFFSETFROM:-0800
TZOFFSETTO:-0700
TZNAME:PDT
DTSTART:20130310T100000
END:DAYLIGHT
BEGIN:STANDARD
TZOFFSETFROM:-0700
TZOFFSETTO:-0800
TZNAME:PST
DTSTART:20131103T090000
END:STANDARD
BEGIN:DAYLIGHT
TZOFFSETFROM:-0800
TZOFFSETTO:-0700
TZNAME:PDT
DTSTART:20140309T100000
END:DAYLIGHT
BEGIN:STANDARD
TZOFFSETFROM:-0700
TZOFFSETTO:-0800
TZNAME:PST
DTSTART:20141102T090000
END:STANDARD
BEGIN:DAYLIGHT
TZOFFSETFROM:-0800
TZOFFSETTO:-0700
TZNAME:PDT
DTSTART:20150308T100000
END:DAYLIGHT
BEGIN:STANDARD
TZOFFSETFROM:-0700
TZOFFSETTO:-0800
TZNAME:PST
DTSTART:20151101T090000
END:STANDARD
BEGIN:DAYLIGHT
TZOFFSETFROM:-0800
TZOFFSETTO:-0700
TZNAME:PDT
DTSTART:20160313T100000
END:DAYLIGHT
BEGIN:STANDARD
TZOFFSETFROM:-0700
TZOFFSETTO:-0800
TZNAME:PST
DTSTART:20161106T090000
END:STANDARD
END:VTIMEZONE
BEGIN:VEVENT
DTSTART;TZID=America/Los_Angeles:20150411T070000
DTEND;TZID=America/Los_Angeles:20150411T200000
DTSTAMP:20260424T184927
CREATED:20150129T210543Z
LAST-MODIFIED:20150129T210543Z
UID:574-1428735600-1428782400@cpg.comm.ucla.edu
SUMMARY:Bruin Day 2015
DESCRIPTION:UCLA Bruin Day is an exclusive\, annual event for admitted freshmen and their guests\, with faculty presentations\, academic and financial aid resources\, and campus and housing tours. \nDiscover campus culture\, world-class academic programs and what it means to be a Bruin. It’s one unforgettable day you won’t want to miss! \nMultiple locations on campus.
URL:https://cpg.comm.ucla.edu/event/bruin-day-2015/
LOCATION:Various Campus Locations\, University of California\, Los Angeles\, Los Angeles\, CA\, 90024\, United States
END:VEVENT
BEGIN:VEVENT
DTSTART;TZID=America/Los_Angeles:20150411T070000
DTEND;TZID=America/Los_Angeles:20150411T200000
DTSTAMP:20260424T184927
CREATED:20150129T210543Z
LAST-MODIFIED:20150129T210543Z
UID:946-1428735600-1428782400@cpg.comm.ucla.edu
SUMMARY:Bruin Day 2015
DESCRIPTION:UCLA Bruin Day is an exclusive\, annual event for admitted freshmen and their guests\, with faculty presentations\, academic and financial aid resources\, and campus and housing tours. \nDiscover campus culture\, world-class academic programs and what it means to be a Bruin. It’s one unforgettable day you won’t want to miss! \nMultiple locations on campus.
URL:https://cpg.comm.ucla.edu/event/bruin-day-2015-2/
LOCATION:Various Campus Locations\, University of California\, Los Angeles\, Los Angeles\, CA\, 90024\, United States
END:VEVENT
BEGIN:VEVENT
DTSTART;TZID=America/Los_Angeles:20150129T110000
DTEND;TZID=America/Los_Angeles:20150129T200000
DTSTAMP:20260424T184927
CREATED:20150129T213016Z
LAST-MODIFIED:20150129T213016Z
UID:581-1422529200-1422561600@cpg.comm.ucla.edu
SUMMARY:2015 Hammer Museum Exhibits
DESCRIPTION:2015 Hammer Museum Exhibitions \n\nApparitions: Frottages and Rubbings from 1860 to Now (Feb. 7\, 2015 – May 31\, 2015)\nCharles Gaines: Gridwork 1974-1989 (Feb. 7\, 2015 – May 24\, 2015)\nProvocations: The Architecture and Design of Heatherwick Studio (Feb 20\, 2015 – May 24\, 2015)\n\n2015 Hammer Museum Projects \n\nThis Is the End: Ed Atkins\, Loretta Fahrenholz\, Tommy Hartung (Jan 10\, 2015 – Jun 7\, 2015)\nThe People’s United Nations (pUN): Pedro Reyes (Jan 31\, 2015 – May 24\, 2015) / Maria Hassabi (Jan 31\, 2015 – Mar 1\, 2015)\nLily van der Stokker (Feb 7\, 2015 – May 17\, 2015)
URL:https://cpg.comm.ucla.edu/event/2015-hammer-museum-exhibits/
LOCATION:UCLA Hammer Museum – Galleries\, 10899 Wilshire Boulevard\, Los Angeles\, CA\, 90024\, United States
ORGANIZER;CN="Hammer Museum":MAILTO:info@hammer.ucla.edu
END:VEVENT
BEGIN:VEVENT
DTSTART;TZID=America/Los_Angeles:20150129T110000
DTEND;TZID=America/Los_Angeles:20150129T200000
DTSTAMP:20260424T184927
CREATED:20150129T213016Z
LAST-MODIFIED:20150129T213016Z
UID:948-1422529200-1422561600@cpg.comm.ucla.edu
SUMMARY:2015 Hammer Museum Exhibits
DESCRIPTION:2015 Hammer Museum Exhibitions \n\nApparitions: Frottages and Rubbings from 1860 to Now (Feb. 7\, 2015 – May 31\, 2015)\nCharles Gaines: Gridwork 1974-1989 (Feb. 7\, 2015 – May 24\, 2015)\nProvocations: The Architecture and Design of Heatherwick Studio (Feb 20\, 2015 – May 24\, 2015)\n\n2015 Hammer Museum Projects \n\nThis Is the End: Ed Atkins\, Loretta Fahrenholz\, Tommy Hartung (Jan 10\, 2015 – Jun 7\, 2015)\nThe People’s United Nations (pUN): Pedro Reyes (Jan 31\, 2015 – May 24\, 2015) / Maria Hassabi (Jan 31\, 2015 – Mar 1\, 2015)\nLily van der Stokker (Feb 7\, 2015 – May 17\, 2015)
URL:https://cpg.comm.ucla.edu/event/2015-hammer-museum-exhibits-2/
LOCATION:UCLA Hammer Museum – Galleries\, 10899 Wilshire Boulevard\, Los Angeles\, CA\, 90024\, United States
ORGANIZER;CN="Hammer Museum":MAILTO:info@hammer.ucla.edu
END:VEVENT
BEGIN:VEVENT
DTSTART;TZID=America/Los_Angeles:20141122T080000
DTEND;TZID=America/Los_Angeles:20141122T170000
DTSTAMP:20260424T184927
CREATED:20141002T130520Z
LAST-MODIFIED:20141002T130520Z
UID:34-1416643200-1416675600@cpg.comm.ucla.edu
SUMMARY:Andrew's Birthday
DESCRIPTION:
URL:https://cpg.comm.ucla.edu/event/andrews-birthday/
LOCATION:CA
END:VEVENT
BEGIN:VEVENT
DTSTART;TZID=America/Los_Angeles:20141122T080000
DTEND;TZID=America/Los_Angeles:20141122T170000
DTSTAMP:20260424T184927
CREATED:20141002T130520Z
LAST-MODIFIED:20141002T130520Z
UID:944-1416643200-1416675600@cpg.comm.ucla.edu
SUMMARY:Andrew's Birthday
DESCRIPTION:
URL:https://cpg.comm.ucla.edu/event/andrews-birthday-2/
LOCATION:CA
END:VEVENT
BEGIN:VEVENT
DTSTART;TZID=America/Los_Angeles:20141026T080000
DTEND;TZID=America/Los_Angeles:20141026T170000
DTSTAMP:20260424T184927
CREATED:20141002T130533Z
LAST-MODIFIED:20141002T130533Z
UID:35-1414310400-1414342800@cpg.comm.ucla.edu
SUMMARY:Joe's Birthday
DESCRIPTION:
URL:https://cpg.comm.ucla.edu/event/joes-birthday/
LOCATION:CA
END:VEVENT
END:VCALENDAR